BEGIN:VCALENDAR
VERSION:2.0
PRODID:-//MEN IN TOUCH - ECPv6.6.3//NONSGML v1.0//EN
CALSCALE:GREGORIAN
METHOD:PUBLISH
X-WR-CALNAME:MEN IN TOUCH
X-ORIGINAL-URL:https://www.menintouch.de
X-WR-CALDESC:Veranstaltungen für MEN IN TOUCH
REFRESH-INTERVAL;VALUE=DURATION:PT1H
X-Robots-Tag:noindex
X-PUBLISHED-TTL:PT1H
BEGIN:VTIMEZONE
TZID:Europe/Berlin
BEGIN:DAYLIGHT
TZOFFSETFROM:+0100
TZOFFSETTO:+0200
TZNAME:CEST
DTSTART:20260329T010000
END:DAYLIGHT
BEGIN:STANDARD
TZOFFSETFROM:+0200
TZOFFSETTO:+0100
TZNAME:CET
DTSTART:20261025T010000
END:STANDARD
END:VTIMEZONE
BEGIN:VEVENT
DTSTART;TZID=Europe/Berlin:20260426T153000
DTEND;TZID=Europe/Berlin:20260426T203000
DTSTAMP:20260421T141235
CREATED:20251212T061448Z
LAST-MODIFIED:20251212T061448Z
UID:10000028-1777217400-1777235400@www.menintouch.de
SUMMARY:MEN IN TOUCH Abend - Zauber der Berührung und Begegnung
DESCRIPTION:Wir sind eine offene Gruppe mit teils neuen und teils schon erfahrenen Männern. \nDu begegnest authentischen Männern\, erlebst herzliche Begegnungen\, inneren Wachstum\, Berührung\, Nähe\, Geborgenheit\, nährende Erfahrungen und Spass. \nWir treffen uns um 15.15 Uhr. Beginn 15.30. \nWenn Du Dich verspätest\, gib mir bitte rechtzeitig Bescheid. Bis ca. 15.25 Uhr bin ich auf dem Handy erreichbar: Friedmar 0179-59 67 546. \nMelde Dich hier unten über den Button „Anmelden“ an. Bitte überweise mir daraufhin den Teilnehmerbeitrag von 50 €\, um dir deinen Platz zu sichern. Meine Kontoverbindung lautet: DE46 7606 9559 0002 1374 45 (Friedmar Zapf)\, Stichwort Menintouch \noder per PayPal an friedmar.zapf@gmx.de senden („Geld an Freunde senden“ anklicken). \nBei einer Absage weniger als 48 Stunden vor Beginn der Veranstaltung kann Dir Dein Teilnehmerbeitrag nur erstattet werden\, wenn du einen “Ersatzmann” stellst bzw. ein Mann von der Warteliste nachrücken kann. \nWenn Du das erste Mal dabei bist\, ist es für mich schön zu erfahren\, wie Du auf MEN IN TOUCH aufmerksam geworden bist. \nIch freue mich auf authentische und berührende Männer 🙂 \nLiebe Grüße \nFriedmar \n  \nPS:   BITTE bring ein eigenes LAKEN und großes Handtuch für die MATTE  als Unterlage für das gegenseitige Massieren mit\, wenn vorhanden auch Massageöl. \nUnd gerne wieder eine Kleinigkeit zum Essen zum Teilen für die Pause (z.B. Salat\, Quiche\, Kuchen\, Käse\, Brot\, Brezen\, Tomaten\, Gurken\, …) . \nGerne auch persönliche Gegenstände für unsere Mitte\, z.B. einen Kristall\, eine Figur\, … \nBitte komm bis spätestens 15.15 Uhr\, da wir pünktlich um 15.30 Uhr mit der Einstiegsrunde beginnen. \n 
URL:https://www.menintouch.de/event/men-in-touch-abend-zauber-der-beruehrung-und-begegnung-25/
LOCATION:Yoga Zentrum Navuna\, Hagenstr. 9\, 90461 Nürnberg\, Yoga Zentrum Navuna\, Hagenstr. 9\, 90461 Nürnberge\, Nürnberg\, 90461
CATEGORIES:Massage,Meditation,MEN IN TOUCH
ATTACH;FMTTYPE=image/jpeg:https://www.menintouch.de/wp/wp-content/uploads/2015/09/event_menintouch_01.jpg
GEO:49.4378248;11.0956208
X-APPLE-STRUCTURED-LOCATION;VALUE=URI;X-ADDRESS=Yoga Zentrum Navuna Hagenstr. 9 90461 Nürnberg Yoga Zentrum Navuna Hagenstr. 9 90461 Nürnberge Nürnberg 90461;X-APPLE-RADIUS=500;X-TITLE=Yoga Zentrum Navuna\, Hagenstr. 9\, 90461 Nürnberge:geo:11.0956208,49.4378248
END:VEVENT
BEGIN:VEVENT
DTSTART;TZID=Europe/Berlin:20260517T153000
DTEND;TZID=Europe/Berlin:20260517T203000
DTSTAMP:20260421T141235
CREATED:20251212T061521Z
LAST-MODIFIED:20251212T061521Z
UID:10000029-1779031800-1779049800@www.menintouch.de
SUMMARY:MEN IN TOUCH Abend - Zauber der Berührung und Begegnung
DESCRIPTION:Wir sind eine offene Gruppe mit teils neuen und teils schon erfahrenen Männern. \nDu begegnest authentischen Männern\, erlebst herzliche Begegnungen\, inneren Wachstum\, Berührung\, Nähe\, Geborgenheit\, nährende Erfahrungen und Spass. \nWir treffen uns um 15.15 Uhr. Beginn 15.30. \nWenn Du Dich verspätest\, gib mir bitte rechtzeitig Bescheid. Bis ca. 15.25 Uhr bin ich auf dem Handy erreichbar: Friedmar 0179-59 67 546. \nMelde Dich hier unten über den Button „Anmelden“ an. Bitte überweise mir daraufhin den Teilnehmerbeitrag von 50 €\, um dir deinen Platz zu sichern. Meine Kontoverbindung lautet: DE46 7606 9559 0002 1374 45 (Friedmar Zapf)\, Stichwort Menintouch \noder per PayPal an friedmar.zapf@gmx.de senden („Geld an Freunde senden“ anklicken). \nBei einer Absage weniger als 48 Stunden vor Beginn der Veranstaltung kann Dir Dein Teilnehmerbeitrag nur erstattet werden\, wenn du einen “Ersatzmann” stellst bzw. ein Mann von der Warteliste nachrücken kann. \nWenn Du das erste Mal dabei bist\, ist es für mich schön zu erfahren\, wie Du auf MEN IN TOUCH aufmerksam geworden bist. \nIch freue mich auf authentische und berührende Männer 🙂 \nLiebe Grüße \nFriedmar \n  \nPS:   BITTE bring ein eigenes LAKEN und großes Handtuch für die MATTE  als Unterlage für das gegenseitige Massieren mit\, wenn vorhanden auch Massageöl. \nUnd gerne wieder eine Kleinigkeit zum Essen zum Teilen für die Pause (z.B. Salat\, Quiche\, Kuchen\, Käse\, Brot\, Brezen\, Tomaten\, Gurken\, …) . \nGerne auch persönliche Gegenstände für unsere Mitte\, z.B. einen Kristall\, eine Figur\, … \nBitte komm bis spätestens 15.15 Uhr\, da wir pünktlich um 15.30 Uhr mit der Einstiegsrunde beginnen. \n 
URL:https://www.menintouch.de/event/men-in-touch-abend-zauber-der-beruehrung-und-begegnung-26/
LOCATION:Yoga Zentrum Navuna\, Hagenstr. 9\, 90461 Nürnberg\, Yoga Zentrum Navuna\, Hagenstr. 9\, 90461 Nürnberge\, Nürnberg\, 90461
CATEGORIES:Massage,Meditation,MEN IN TOUCH
ATTACH;FMTTYPE=image/jpeg:https://www.menintouch.de/wp/wp-content/uploads/2015/09/event_menintouch_01.jpg
GEO:49.4378248;11.0956208
X-APPLE-STRUCTURED-LOCATION;VALUE=URI;X-ADDRESS=Yoga Zentrum Navuna Hagenstr. 9 90461 Nürnberg Yoga Zentrum Navuna Hagenstr. 9 90461 Nürnberge Nürnberg 90461;X-APPLE-RADIUS=500;X-TITLE=Yoga Zentrum Navuna\, Hagenstr. 9\, 90461 Nürnberge:geo:11.0956208,49.4378248
END:VEVENT
BEGIN:VEVENT
DTSTART;TZID=Europe/Berlin:20260621T153000
DTEND;TZID=Europe/Berlin:20260621T203000
DTSTAMP:20260421T141235
CREATED:20251212T061548Z
LAST-MODIFIED:20251212T061548Z
UID:10000030-1782055800-1782073800@www.menintouch.de
SUMMARY:MEN IN TOUCH Abend - Zauber der Berührung und Begegnung
DESCRIPTION:Wir sind eine offene Gruppe mit teils neuen und teils schon erfahrenen Männern. \nDu begegnest authentischen Männern\, erlebst herzliche Begegnungen\, inneren Wachstum\, Berührung\, Nähe\, Geborgenheit\, nährende Erfahrungen und Spass. \nWir treffen uns um 15.15 Uhr. Beginn 15.30. \nWenn Du Dich verspätest\, gib mir bitte rechtzeitig Bescheid. Bis ca. 15.25 Uhr bin ich auf dem Handy erreichbar: Friedmar 0179-59 67 546. \nMelde Dich hier unten über den Button „Anmelden“ an. Bitte überweise mir daraufhin den Teilnehmerbeitrag von 50 €\, um dir deinen Platz zu sichern. Meine Kontoverbindung lautet: DE46 7606 9559 0002 1374 45 (Friedmar Zapf)\, Stichwort Menintouch \noder per PayPal an friedmar.zapf@gmx.de senden („Geld an Freunde senden“ anklicken). \nBei einer Absage weniger als 48 Stunden vor Beginn der Veranstaltung kann Dir Dein Teilnehmerbeitrag nur erstattet werden\, wenn du einen “Ersatzmann” stellst bzw. ein Mann von der Warteliste nachrücken kann. \nWenn Du das erste Mal dabei bist\, ist es für mich schön zu erfahren\, wie Du auf MEN IN TOUCH aufmerksam geworden bist. \nIch freue mich auf authentische und berührende Männer 🙂 \nLiebe Grüße \nFriedmar \n  \nPS:   BITTE bring ein eigenes LAKEN und großes Handtuch für die MATTE  als Unterlage für das gegenseitige Massieren mit\, wenn vorhanden auch Massageöl. \nUnd gerne wieder eine Kleinigkeit zum Essen zum Teilen für die Pause (z.B. Salat\, Quiche\, Kuchen\, Käse\, Brot\, Brezen\, Tomaten\, Gurken\, …) . \nGerne auch persönliche Gegenstände für unsere Mitte\, z.B. einen Kristall\, eine Figur\, … \nBitte komm bis spätestens 15.15 Uhr\, da wir pünktlich um 15.30 Uhr mit der Einstiegsrunde beginnen. \n 
URL:https://www.menintouch.de/event/men-in-touch-abend-zauber-der-beruehrung-und-begegnung-27/
LOCATION:Yoga Zentrum Navuna\, Hagenstr. 9\, 90461 Nürnberg\, Yoga Zentrum Navuna\, Hagenstr. 9\, 90461 Nürnberge\, Nürnberg\, 90461
CATEGORIES:Massage,Meditation,MEN IN TOUCH
ATTACH;FMTTYPE=image/jpeg:https://www.menintouch.de/wp/wp-content/uploads/2015/09/event_menintouch_01.jpg
GEO:49.4378248;11.0956208
X-APPLE-STRUCTURED-LOCATION;VALUE=URI;X-ADDRESS=Yoga Zentrum Navuna Hagenstr. 9 90461 Nürnberg Yoga Zentrum Navuna Hagenstr. 9 90461 Nürnberge Nürnberg 90461;X-APPLE-RADIUS=500;X-TITLE=Yoga Zentrum Navuna\, Hagenstr. 9\, 90461 Nürnberge:geo:11.0956208,49.4378248
END:VEVENT
BEGIN:VEVENT
DTSTART;TZID=Europe/Berlin:20260726T153000
DTEND;TZID=Europe/Berlin:20260726T203000
DTSTAMP:20260421T141235
CREATED:20251212T061615Z
LAST-MODIFIED:20251212T061615Z
UID:10000031-1785079800-1785097800@www.menintouch.de
SUMMARY:MEN IN TOUCH Abend - Zauber der Berührung und Begegnung
DESCRIPTION:Wir sind eine offene Gruppe mit teils neuen und teils schon erfahrenen Männern. \nDu begegnest authentischen Männern\, erlebst herzliche Begegnungen\, inneren Wachstum\, Berührung\, Nähe\, Geborgenheit\, nährende Erfahrungen und Spass. \nWir treffen uns um 15.15 Uhr. Beginn 15.30. \nWenn Du Dich verspätest\, gib mir bitte rechtzeitig Bescheid. Bis ca. 15.25 Uhr bin ich auf dem Handy erreichbar: Friedmar 0179-59 67 546. \nMelde Dich hier unten über den Button „Anmelden“ an. Bitte überweise mir daraufhin den Teilnehmerbeitrag von 50 €\, um dir deinen Platz zu sichern. Meine Kontoverbindung lautet: DE46 7606 9559 0002 1374 45 (Friedmar Zapf)\, Stichwort Menintouch \noder per PayPal an friedmar.zapf@gmx.de senden („Geld an Freunde senden“ anklicken). \nBei einer Absage weniger als 48 Stunden vor Beginn der Veranstaltung kann Dir Dein Teilnehmerbeitrag nur erstattet werden\, wenn du einen “Ersatzmann” stellst bzw. ein Mann von der Warteliste nachrücken kann. \nWenn Du das erste Mal dabei bist\, ist es für mich schön zu erfahren\, wie Du auf MEN IN TOUCH aufmerksam geworden bist. \nIch freue mich auf authentische und berührende Männer 🙂 \nLiebe Grüße \nFriedmar \n  \nPS:   BITTE bring ein eigenes LAKEN und großes Handtuch für die MATTE  als Unterlage für das gegenseitige Massieren mit\, wenn vorhanden auch Massageöl. \nUnd gerne wieder eine Kleinigkeit zum Essen zum Teilen für die Pause (z.B. Salat\, Quiche\, Kuchen\, Käse\, Brot\, Brezen\, Tomaten\, Gurken\, …) . \nGerne auch persönliche Gegenstände für unsere Mitte\, z.B. einen Kristall\, eine Figur\, … \nBitte komm bis spätestens 15.15 Uhr\, da wir pünktlich um 15.30 Uhr mit der Einstiegsrunde beginnen. \n 
URL:https://www.menintouch.de/event/men-in-touch-abend-zauber-der-beruehrung-und-begegnung-28/
LOCATION:Yoga Zentrum Navuna\, Hagenstr. 9\, 90461 Nürnberg\, Yoga Zentrum Navuna\, Hagenstr. 9\, 90461 Nürnberge\, Nürnberg\, 90461
CATEGORIES:Massage,Meditation,MEN IN TOUCH
ATTACH;FMTTYPE=image/jpeg:https://www.menintouch.de/wp/wp-content/uploads/2015/09/event_menintouch_01.jpg
GEO:49.4378248;11.0956208
X-APPLE-STRUCTURED-LOCATION;VALUE=URI;X-ADDRESS=Yoga Zentrum Navuna Hagenstr. 9 90461 Nürnberg Yoga Zentrum Navuna Hagenstr. 9 90461 Nürnberge Nürnberg 90461;X-APPLE-RADIUS=500;X-TITLE=Yoga Zentrum Navuna\, Hagenstr. 9\, 90461 Nürnberge:geo:11.0956208,49.4378248
END:VEVENT
BEGIN:VEVENT
DTSTART;TZID=Europe/Berlin:20260823T153000
DTEND;TZID=Europe/Berlin:20260823T203000
DTSTAMP:20260421T141235
CREATED:20251212T061710Z
LAST-MODIFIED:20251212T061710Z
UID:10000032-1787499000-1787517000@www.menintouch.de
SUMMARY:MEN IN TOUCH Abend - Zauber der Berührung und Begegnung
DESCRIPTION:Wir sind eine offene Gruppe mit teils neuen und teils schon erfahrenen Männern. \nDu begegnest authentischen Männern\, erlebst herzliche Begegnungen\, inneren Wachstum\, Berührung\, Nähe\, Geborgenheit\, nährende Erfahrungen und Spass. \nWir treffen uns um 15.15 Uhr. Beginn 15.30. \nWenn Du Dich verspätest\, gib mir bitte rechtzeitig Bescheid. Bis ca. 15.25 Uhr bin ich auf dem Handy erreichbar: Friedmar 0179-59 67 546. \nMelde Dich hier unten über den Button „Anmelden“ an. Bitte überweise mir daraufhin den Teilnehmerbeitrag von 50 €\, um dir deinen Platz zu sichern. Meine Kontoverbindung lautet: DE46 7606 9559 0002 1374 45 (Friedmar Zapf)\, Stichwort Menintouch \noder per PayPal an friedmar.zapf@gmx.de senden („Geld an Freunde senden“ anklicken). \nBei einer Absage weniger als 48 Stunden vor Beginn der Veranstaltung kann Dir Dein Teilnehmerbeitrag nur erstattet werden\, wenn du einen “Ersatzmann” stellst bzw. ein Mann von der Warteliste nachrücken kann. \nWenn Du das erste Mal dabei bist\, ist es für mich schön zu erfahren\, wie Du auf MEN IN TOUCH aufmerksam geworden bist. \nIch freue mich auf authentische und berührende Männer 🙂 \nLiebe Grüße \nFriedmar \n  \nPS:   BITTE bring ein eigenes LAKEN und großes Handtuch für die MATTE  als Unterlage für das gegenseitige Massieren mit\, wenn vorhanden auch Massageöl. \nUnd gerne wieder eine Kleinigkeit zum Essen zum Teilen für die Pause (z.B. Salat\, Quiche\, Kuchen\, Käse\, Brot\, Brezen\, Tomaten\, Gurken\, …) . \nGerne auch persönliche Gegenstände für unsere Mitte\, z.B. einen Kristall\, eine Figur\, … \nBitte komm bis spätestens 15.15 Uhr\, da wir pünktlich um 15.30 Uhr mit der Einstiegsrunde beginnen. \n 
URL:https://www.menintouch.de/event/men-in-touch-abend-zauber-der-beruehrung-und-begegnung-29/
LOCATION:Yoga Zentrum Navuna\, Hagenstr. 9\, 90461 Nürnberg\, Yoga Zentrum Navuna\, Hagenstr. 9\, 90461 Nürnberge\, Nürnberg\, 90461
CATEGORIES:Massage,Meditation,MEN IN TOUCH
ATTACH;FMTTYPE=image/jpeg:https://www.menintouch.de/wp/wp-content/uploads/2015/09/event_menintouch_01.jpg
GEO:49.4378248;11.0956208
X-APPLE-STRUCTURED-LOCATION;VALUE=URI;X-ADDRESS=Yoga Zentrum Navuna Hagenstr. 9 90461 Nürnberg Yoga Zentrum Navuna Hagenstr. 9 90461 Nürnberge Nürnberg 90461;X-APPLE-RADIUS=500;X-TITLE=Yoga Zentrum Navuna\, Hagenstr. 9\, 90461 Nürnberge:geo:11.0956208,49.4378248
END:VEVENT
BEGIN:VEVENT
DTSTART;TZID=Europe/Berlin:20260920T153000
DTEND;TZID=Europe/Berlin:20260920T203000
DTSTAMP:20260421T141235
CREATED:20251212T061742Z
LAST-MODIFIED:20251212T061742Z
UID:10000033-1789918200-1789936200@www.menintouch.de
SUMMARY:MEN IN TOUCH Abend - Zauber der Berührung und Begegnung
DESCRIPTION:Wir sind eine offene Gruppe mit teils neuen und teils schon erfahrenen Männern. \nDu begegnest authentischen Männern\, erlebst herzliche Begegnungen\, inneren Wachstum\, Berührung\, Nähe\, Geborgenheit\, nährende Erfahrungen und Spass. \nWir treffen uns um 15.15 Uhr. Beginn 15.30. \nWenn Du Dich verspätest\, gib mir bitte rechtzeitig Bescheid. Bis ca. 15.25 Uhr bin ich auf dem Handy erreichbar: Friedmar 0179-59 67 546. \nMelde Dich hier unten über den Button „Anmelden“ an. Bitte überweise mir daraufhin den Teilnehmerbeitrag von 50 €\, um dir deinen Platz zu sichern. Meine Kontoverbindung lautet: DE46 7606 9559 0002 1374 45 (Friedmar Zapf)\, Stichwort Menintouch \noder per PayPal an friedmar.zapf@gmx.de senden („Geld an Freunde senden“ anklicken). \nBei einer Absage weniger als 48 Stunden vor Beginn der Veranstaltung kann Dir Dein Teilnehmerbeitrag nur erstattet werden\, wenn du einen “Ersatzmann” stellst bzw. ein Mann von der Warteliste nachrücken kann. \nWenn Du das erste Mal dabei bist\, ist es für mich schön zu erfahren\, wie Du auf MEN IN TOUCH aufmerksam geworden bist. \nIch freue mich auf authentische und berührende Männer 🙂 \nLiebe Grüße \nFriedmar \n  \nPS:   BITTE bring ein eigenes LAKEN und großes Handtuch für die MATTE  als Unterlage für das gegenseitige Massieren mit\, wenn vorhanden auch Massageöl. \nUnd gerne wieder eine Kleinigkeit zum Essen zum Teilen für die Pause (z.B. Salat\, Quiche\, Kuchen\, Käse\, Brot\, Brezen\, Tomaten\, Gurken\, …) . \nGerne auch persönliche Gegenstände für unsere Mitte\, z.B. einen Kristall\, eine Figur\, … \nBitte komm bis spätestens 15.15 Uhr\, da wir pünktlich um 15.30 Uhr mit der Einstiegsrunde beginnen. \n 
URL:https://www.menintouch.de/event/men-in-touch-abend-zauber-der-beruehrung-und-begegnung-30/
LOCATION:Yoga Zentrum Navuna\, Hagenstr. 9\, 90461 Nürnberg\, Yoga Zentrum Navuna\, Hagenstr. 9\, 90461 Nürnberge\, Nürnberg\, 90461
CATEGORIES:Massage,Meditation,MEN IN TOUCH
ATTACH;FMTTYPE=image/jpeg:https://www.menintouch.de/wp/wp-content/uploads/2015/09/event_menintouch_01.jpg
GEO:49.4378248;11.0956208
X-APPLE-STRUCTURED-LOCATION;VALUE=URI;X-ADDRESS=Yoga Zentrum Navuna Hagenstr. 9 90461 Nürnberg Yoga Zentrum Navuna Hagenstr. 9 90461 Nürnberge Nürnberg 90461;X-APPLE-RADIUS=500;X-TITLE=Yoga Zentrum Navuna\, Hagenstr. 9\, 90461 Nürnberge:geo:11.0956208,49.4378248
END:VEVENT
BEGIN:VEVENT
DTSTART;TZID=Europe/Berlin:20261018T153000
DTEND;TZID=Europe/Berlin:20261018T203000
DTSTAMP:20260421T141235
CREATED:20251212T061802Z
LAST-MODIFIED:20251212T061802Z
UID:10000034-1792337400-1792355400@www.menintouch.de
SUMMARY:MEN IN TOUCH Abend - Zauber der Berührung und Begegnung
DESCRIPTION:Wir sind eine offene Gruppe mit teils neuen und teils schon erfahrenen Männern. \nDu begegnest authentischen Männern\, erlebst herzliche Begegnungen\, inneren Wachstum\, Berührung\, Nähe\, Geborgenheit\, nährende Erfahrungen und Spass. \nWir treffen uns um 15.15 Uhr. Beginn 15.30. \nWenn Du Dich verspätest\, gib mir bitte rechtzeitig Bescheid. Bis ca. 15.25 Uhr bin ich auf dem Handy erreichbar: Friedmar 0179-59 67 546. \nMelde Dich hier unten über den Button „Anmelden“ an. Bitte überweise mir daraufhin den Teilnehmerbeitrag von 50 €\, um dir deinen Platz zu sichern. Meine Kontoverbindung lautet: DE46 7606 9559 0002 1374 45 (Friedmar Zapf)\, Stichwort Menintouch \noder per PayPal an friedmar.zapf@gmx.de senden („Geld an Freunde senden“ anklicken). \nBei einer Absage weniger als 48 Stunden vor Beginn der Veranstaltung kann Dir Dein Teilnehmerbeitrag nur erstattet werden\, wenn du einen “Ersatzmann” stellst bzw. ein Mann von der Warteliste nachrücken kann. \nWenn Du das erste Mal dabei bist\, ist es für mich schön zu erfahren\, wie Du auf MEN IN TOUCH aufmerksam geworden bist. \nIch freue mich auf authentische und berührende Männer 🙂 \nLiebe Grüße \nFriedmar \n  \nPS:   BITTE bring ein eigenes LAKEN und großes Handtuch für die MATTE  als Unterlage für das gegenseitige Massieren mit\, wenn vorhanden auch Massageöl. \nUnd gerne wieder eine Kleinigkeit zum Essen zum Teilen für die Pause (z.B. Salat\, Quiche\, Kuchen\, Käse\, Brot\, Brezen\, Tomaten\, Gurken\, …) . \nGerne auch persönliche Gegenstände für unsere Mitte\, z.B. einen Kristall\, eine Figur\, … \nBitte komm bis spätestens 15.15 Uhr\, da wir pünktlich um 15.30 Uhr mit der Einstiegsrunde beginnen. \n 
URL:https://www.menintouch.de/event/men-in-touch-abend-zauber-der-beruehrung-und-begegnung-31/
LOCATION:Yoga Zentrum Navuna\, Hagenstr. 9\, 90461 Nürnberg\, Yoga Zentrum Navuna\, Hagenstr. 9\, 90461 Nürnberge\, Nürnberg\, 90461
CATEGORIES:Massage,Meditation,MEN IN TOUCH
ATTACH;FMTTYPE=image/jpeg:https://www.menintouch.de/wp/wp-content/uploads/2015/09/event_menintouch_01.jpg
GEO:49.4378248;11.0956208
X-APPLE-STRUCTURED-LOCATION;VALUE=URI;X-ADDRESS=Yoga Zentrum Navuna Hagenstr. 9 90461 Nürnberg Yoga Zentrum Navuna Hagenstr. 9 90461 Nürnberge Nürnberg 90461;X-APPLE-RADIUS=500;X-TITLE=Yoga Zentrum Navuna\, Hagenstr. 9\, 90461 Nürnberge:geo:11.0956208,49.4378248
END:VEVENT
BEGIN:VEVENT
DTSTART;TZID=Europe/Berlin:20261108T153000
DTEND;TZID=Europe/Berlin:20261108T203000
DTSTAMP:20260421T141235
CREATED:20251212T061830Z
LAST-MODIFIED:20251212T061830Z
UID:10000035-1794151800-1794169800@www.menintouch.de
SUMMARY:MEN IN TOUCH Abend - Zauber der Berührung und Begegnung
DESCRIPTION:Wir sind eine offene Gruppe mit teils neuen und teils schon erfahrenen Männern. \nDu begegnest authentischen Männern\, erlebst herzliche Begegnungen\, inneren Wachstum\, Berührung\, Nähe\, Geborgenheit\, nährende Erfahrungen und Spass. \nWir treffen uns um 15.15 Uhr. Beginn 15.30. \nWenn Du Dich verspätest\, gib mir bitte rechtzeitig Bescheid. Bis ca. 15.25 Uhr bin ich auf dem Handy erreichbar: Friedmar 0179-59 67 546. \nMelde Dich hier unten über den Button „Anmelden“ an. Bitte überweise mir daraufhin den Teilnehmerbeitrag von 50 €\, um dir deinen Platz zu sichern. Meine Kontoverbindung lautet: DE46 7606 9559 0002 1374 45 (Friedmar Zapf)\, Stichwort Menintouch \noder per PayPal an friedmar.zapf@gmx.de senden („Geld an Freunde senden“ anklicken). \nBei einer Absage weniger als 48 Stunden vor Beginn der Veranstaltung kann Dir Dein Teilnehmerbeitrag nur erstattet werden\, wenn du einen “Ersatzmann” stellst bzw. ein Mann von der Warteliste nachrücken kann. \nWenn Du das erste Mal dabei bist\, ist es für mich schön zu erfahren\, wie Du auf MEN IN TOUCH aufmerksam geworden bist. \nIch freue mich auf authentische und berührende Männer 🙂 \nLiebe Grüße \nFriedmar \n  \nPS:   BITTE bring ein eigenes LAKEN und großes Handtuch für die MATTE  als Unterlage für das gegenseitige Massieren mit\, wenn vorhanden auch Massageöl. \nUnd gerne wieder eine Kleinigkeit zum Essen zum Teilen für die Pause (z.B. Salat\, Quiche\, Kuchen\, Käse\, Brot\, Brezen\, Tomaten\, Gurken\, …) . \nGerne auch persönliche Gegenstände für unsere Mitte\, z.B. einen Kristall\, eine Figur\, … \nBitte komm bis spätestens 15.15 Uhr\, da wir pünktlich um 15.30 Uhr mit der Einstiegsrunde beginnen. \n 
URL:https://www.menintouch.de/event/men-in-touch-abend-zauber-der-beruehrung-und-begegnung-32/
LOCATION:Yoga Zentrum Navuna\, Hagenstr. 9\, 90461 Nürnberg\, Yoga Zentrum Navuna\, Hagenstr. 9\, 90461 Nürnberge\, Nürnberg\, 90461
CATEGORIES:Massage,Meditation,MEN IN TOUCH
ATTACH;FMTTYPE=image/jpeg:https://www.menintouch.de/wp/wp-content/uploads/2015/09/event_menintouch_01.jpg
GEO:49.4378248;11.0956208
X-APPLE-STRUCTURED-LOCATION;VALUE=URI;X-ADDRESS=Yoga Zentrum Navuna Hagenstr. 9 90461 Nürnberg Yoga Zentrum Navuna Hagenstr. 9 90461 Nürnberge Nürnberg 90461;X-APPLE-RADIUS=500;X-TITLE=Yoga Zentrum Navuna\, Hagenstr. 9\, 90461 Nürnberge:geo:11.0956208,49.4378248
END:VEVENT
BEGIN:VEVENT
DTSTART;TZID=Europe/Berlin:20261206T153000
DTEND;TZID=Europe/Berlin:20261206T203000
DTSTAMP:20260421T141235
CREATED:20251212T061859Z
LAST-MODIFIED:20251212T061859Z
UID:10000036-1796571000-1796589000@www.menintouch.de
SUMMARY:MEN IN TOUCH Abend - Zauber der Berührung und Begegnung
DESCRIPTION:Wir sind eine offene Gruppe mit teils neuen und teils schon erfahrenen Männern. \nDu begegnest authentischen Männern\, erlebst herzliche Begegnungen\, inneren Wachstum\, Berührung\, Nähe\, Geborgenheit\, nährende Erfahrungen und Spass. \nWir treffen uns um 15.15 Uhr. Beginn 15.30. \nWenn Du Dich verspätest\, gib mir bitte rechtzeitig Bescheid. Bis ca. 15.25 Uhr bin ich auf dem Handy erreichbar: Friedmar 0179-59 67 546. \nMelde Dich hier unten über den Button „Anmelden“ an. Bitte überweise mir daraufhin den Teilnehmerbeitrag von 50 €\, um dir deinen Platz zu sichern. Meine Kontoverbindung lautet: DE46 7606 9559 0002 1374 45 (Friedmar Zapf)\, Stichwort Menintouch \noder per PayPal an friedmar.zapf@gmx.de senden („Geld an Freunde senden“ anklicken). \nBei einer Absage weniger als 48 Stunden vor Beginn der Veranstaltung kann Dir Dein Teilnehmerbeitrag nur erstattet werden\, wenn du einen “Ersatzmann” stellst bzw. ein Mann von der Warteliste nachrücken kann. \nWenn Du das erste Mal dabei bist\, ist es für mich schön zu erfahren\, wie Du auf MEN IN TOUCH aufmerksam geworden bist. \nIch freue mich auf authentische und berührende Männer 🙂 \nLiebe Grüße \nFriedmar \n  \nPS:   BITTE bring ein eigenes LAKEN und großes Handtuch für die MATTE  als Unterlage für das gegenseitige Massieren mit\, wenn vorhanden auch Massageöl. \nUnd gerne wieder eine Kleinigkeit zum Essen zum Teilen für die Pause (z.B. Salat\, Quiche\, Kuchen\, Käse\, Brot\, Brezen\, Tomaten\, Gurken\, …) . \nGerne auch persönliche Gegenstände für unsere Mitte\, z.B. einen Kristall\, eine Figur\, … \nBitte komm bis spätestens 15.15 Uhr\, da wir pünktlich um 15.30 Uhr mit der Einstiegsrunde beginnen. \n 
URL:https://www.menintouch.de/event/men-in-touch-abend-zauber-der-beruehrung-und-begegnung-33/
LOCATION:Yoga Zentrum Navuna\, Hagenstr. 9\, 90461 Nürnberg\, Yoga Zentrum Navuna\, Hagenstr. 9\, 90461 Nürnberge\, Nürnberg\, 90461
CATEGORIES:Massage,Meditation,MEN IN TOUCH
ATTACH;FMTTYPE=image/jpeg:https://www.menintouch.de/wp/wp-content/uploads/2015/09/event_menintouch_01.jpg
GEO:49.4378248;11.0956208
X-APPLE-STRUCTURED-LOCATION;VALUE=URI;X-ADDRESS=Yoga Zentrum Navuna Hagenstr. 9 90461 Nürnberg Yoga Zentrum Navuna Hagenstr. 9 90461 Nürnberge Nürnberg 90461;X-APPLE-RADIUS=500;X-TITLE=Yoga Zentrum Navuna\, Hagenstr. 9\, 90461 Nürnberge:geo:11.0956208,49.4378248
END:VEVENT
END:VCALENDAR